BEGIN:VCALENDAR
VERSION:2.0
PRODID:-//Bradpole Pre-School - ECPv4.6.25//NONSGML v1.0//EN
CALSCALE:GREGORIAN
METHOD:PUBLISH
X-WR-CALNAME:Bradpole Pre-School
X-ORIGINAL-URL:http://bradpolepreschool.org.uk
X-WR-CALDESC:Events for Bradpole Pre-School
BEGIN:VEVENT
DTSTART;TZID=UTC+0:20220721T080000
DTEND;TZID=UTC+0:20220721T123000
DTSTAMP:20260421T143629
CREATED:20220523T084822Z
LAST-MODIFIED:20220523T084822Z
UID:2213-1658390400-1658406600@bradpolepreschool.org.uk
SUMMARY:Last Day of Term
DESCRIPTION:
URL:http://bradpolepreschool.org.uk/event/last-day-of-term-9/
END:VEVENT
BEGIN:VEVENT
DTSTART;TZID=UTC+0:20220721T180000
DTEND;TZID=UTC+0:20220721T180000
DTSTAMP:20260421T143629
CREATED:20220523T084902Z
LAST-MODIFIED:20220523T084902Z
UID:2215-1658426400-1658426400@bradpolepreschool.org.uk
SUMMARY:Leavers Presentation
DESCRIPTION:
URL:http://bradpolepreschool.org.uk/event/leavers-presentation/
END:VEVENT
END:VCALENDAR