BEGIN:VCALENDAR
VERSION:2.0
PRODID:-//Bradpole Pre-School - ECPv4.6.25//NONSGML v1.0//EN
CALSCALE:GREGORIAN
METHOD:PUBLISH
X-WR-CALNAME:Bradpole Pre-School
X-ORIGINAL-URL:http://bradpolepreschool.org.uk
X-WR-CALDESC:Events for Bradpole Pre-School
BEGIN:VEVENT
DTSTART;TZID=UTC+0:20220527T080000
DTEND;TZID=UTC+0:20220527T170000
DTSTAMP:20260421T181207
CREATED:20220523T085806Z
LAST-MODIFIED:20220523T085806Z
UID:2221-1653638400-1653670800@bradpolepreschool.org.uk
SUMMARY:Last Day of Term
DESCRIPTION:
URL:http://bradpolepreschool.org.uk/event/last-day-of-term-10/
END:VEVENT
END:VCALENDAR