BEGIN:VCALENDAR
VERSION:2.0
PRODID:-//Bradpole Pre-School - ECPv4.6.25//NONSGML v1.0//EN
CALSCALE:GREGORIAN
METHOD:PUBLISH
X-WR-CALNAME:Bradpole Pre-School
X-ORIGINAL-URL:http://bradpolepreschool.org.uk
X-WR-CALDESC:Events for Bradpole Pre-School
BEGIN:VEVENT
DTSTART;TZID=UTC+0:20220411T080000
DTEND;TZID=UTC+0:20220422T160000
DTSTAMP:20260421T200622
CREATED:20220308T113749Z
LAST-MODIFIED:20220308T113749Z
UID:2182-1649664000-1650643200@bradpolepreschool.org.uk
SUMMARY:Easter Holidays
DESCRIPTION:
URL:http://bradpolepreschool.org.uk/event/easter-holidays-3/
END:VEVENT
END:VCALENDAR