BEGIN:VCALENDAR
VERSION:2.0
PRODID:-//Bradpole Pre-School - ECPv4.6.25//NONSGML v1.0//EN
CALSCALE:GREGORIAN
METHOD:PUBLISH
X-WR-CALNAME:Bradpole Pre-School
X-ORIGINAL-URL:http://bradpolepreschool.org.uk
X-WR-CALDESC:Events for Bradpole Pre-School
BEGIN:VEVENT
DTSTART;TZID=UTC+0:20220410T090000
DTEND;TZID=UTC+0:20220410T110000
DTSTAMP:20260421T200626
CREATED:20220308T113441Z
LAST-MODIFIED:20220308T113441Z
UID:2178-1649581200-1649588400@bradpolepreschool.org.uk
SUMMARY:Breakfast With Bunny - Easter Fundraising Event
DESCRIPTION: \n
URL:http://bradpolepreschool.org.uk/event/breakfast-with-bunny-easter-fundraising-event/
END:VEVENT
END:VCALENDAR