BEGIN:VCALENDAR
VERSION:2.0
PRODID:-//Bradpole Pre-School - ECPv4.6.25//NONSGML v1.0//EN
CALSCALE:GREGORIAN
METHOD:PUBLISH
X-WR-CALNAME:Bradpole Pre-School
X-ORIGINAL-URL:http://bradpolepreschool.org.uk
X-WR-CALDESC:Events for Bradpole Pre-School
BEGIN:VEVENT
DTSTART;TZID=UTC+0:20220228T080000
DTEND;TZID=UTC+0:20220228T160000
DTSTAMP:20260421T214529
CREATED:20220308T113625Z
LAST-MODIFIED:20220308T113625Z
UID:2180-1646035200-1646064000@bradpolepreschool.org.uk
SUMMARY:Spring Term Starts
DESCRIPTION:
URL:http://bradpolepreschool.org.uk/event/spring-term-starts/
END:VEVENT
END:VCALENDAR