BEGIN:VCALENDAR
VERSION:2.0
PRODID:-//Bradpole Pre-School - ECPv4.6.25//NONSGML v1.0//EN
CALSCALE:GREGORIAN
METHOD:PUBLISH
X-WR-CALNAME:Bradpole Pre-School
X-ORIGINAL-URL:http://bradpolepreschool.org.uk
X-WR-CALDESC:Events for Bradpole Pre-School
BEGIN:VEVENT
DTSTART;TZID=UTC+0:20201216T080000
DTEND;TZID=UTC+0:20201217T123000
DTSTAMP:20260422T222554
CREATED:20201204T124858Z
LAST-MODIFIED:20201204T124858Z
UID:1954-1608105600-1608208200@bradpolepreschool.org.uk
SUMMARY:Preschool Christmas Parties
DESCRIPTION:
URL:http://bradpolepreschool.org.uk/event/preschool-christmas-parties/
END:VEVENT
BEGIN:VEVENT
DTSTART;TZID=UTC+0:20201217T080000
DTEND;TZID=UTC+0:20201217T123000
DTSTAMP:20260422T222554
CREATED:20201204T124655Z
LAST-MODIFIED:20201204T124655Z
UID:1950-1608192000-1608208200@bradpolepreschool.org.uk
SUMMARY:Last Day of Term
DESCRIPTION:Preschool closes at 12.30pm. \n
URL:http://bradpolepreschool.org.uk/event/last-day-of-term-8/
END:VEVENT
END:VCALENDAR