BEGIN:VCALENDAR
VERSION:2.0
PRODID:-//Bradpole Pre-School - ECPv4.6.25//NONSGML v1.0//EN
CALSCALE:GREGORIAN
METHOD:PUBLISH
X-WR-CALNAME:Bradpole Pre-School
X-ORIGINAL-URL:http://bradpolepreschool.org.uk
X-WR-CALDESC:Events for Bradpole Pre-School
BEGIN:VEVENT
DTSTART;TZID=UTC+0:20201213T080000
DTEND;TZID=UTC+0:20201213T160000
DTSTAMP:20260422T225228
CREATED:20201204T125015Z
LAST-MODIFIED:20201204T125015Z
UID:1956-1607846400-1607875200@bradpolepreschool.org.uk
SUMMARY:Christmas Drawing Competition Closing Date
DESCRIPTION:
URL:http://bradpolepreschool.org.uk/event/christmas-drawing-competition-closing-date/
END:VEVENT
END:VCALENDAR