BEGIN:VCALENDAR
VERSION:2.0
PRODID:-//Bradpole Pre-School - ECPv4.6.25//NONSGML v1.0//EN
CALSCALE:GREGORIAN
METHOD:PUBLISH
X-WR-CALNAME:Bradpole Pre-School
X-ORIGINAL-URL:http://bradpolepreschool.org.uk
X-WR-CALDESC:Events for Bradpole Pre-School
BEGIN:VEVENT
DTSTART;TZID=UTC+0:20201204T080000
DTEND;TZID=UTC+0:20201204T160000
DTSTAMP:20260422T225239
CREATED:20201204T124727Z
LAST-MODIFIED:20201204T124738Z
UID:1952-1607068800-1607097600@bradpolepreschool.org.uk
SUMMARY:Preschool Nativity Play
DESCRIPTION:
URL:http://bradpolepreschool.org.uk/event/preschool-nativity-play/
END:VEVENT
END:VCALENDAR