BEGIN:VCALENDAR
VERSION:2.0
PRODID:-//Bradpole Pre-School - ECPv4.6.25//NONSGML v1.0//EN
CALSCALE:GREGORIAN
METHOD:PUBLISH
X-WR-CALNAME:Bradpole Pre-School
X-ORIGINAL-URL:http://bradpolepreschool.org.uk
X-WR-CALDESC:Events for Bradpole Pre-School
BEGIN:VEVENT
DTSTART;TZID=UTC+0:20200904T090000
DTEND;TZID=UTC+0:20200904T113000
DTSTAMP:20260423T035115
CREATED:20200903T164552Z
LAST-MODIFIED:20200903T164552Z
UID:1813-1599210000-1599219000@bradpolepreschool.org.uk
SUMMARY:New Starters Session 9.00am to 11.30am
DESCRIPTION:
URL:http://bradpolepreschool.org.uk/event/new-starters-session-9-00am-to-11-30am/
END:VEVENT
END:VCALENDAR