BEGIN:VCALENDAR
VERSION:2.0
PRODID:-//Bradpole Pre-School - ECPv4.6.25//NONSGML v1.0//EN
CALSCALE:GREGORIAN
METHOD:PUBLISH
X-WR-CALNAME:Bradpole Pre-School
X-ORIGINAL-URL:http://bradpolepreschool.org.uk
X-WR-CALDESC:Events for Bradpole Pre-School
BEGIN:VEVENT
DTSTART;TZID=UTC+0:20200106T080000
DTEND;TZID=UTC+0:20200106T160000
DTSTAMP:20260423T183242
CREATED:20191018T113641Z
LAST-MODIFIED:20191018T113641Z
UID:1679-1578297600-1578326400@bradpolepreschool.org.uk
SUMMARY:Term Restarts
DESCRIPTION:
URL:http://bradpolepreschool.org.uk/event/term-restarts-4/
END:VEVENT
END:VCALENDAR