BEGIN:VCALENDAR
VERSION:2.0
PRODID:-//Bradpole Pre-School - ECPv4.6.25//NONSGML v1.0//EN
CALSCALE:GREGORIAN
METHOD:PUBLISH
X-WR-CALNAME:Bradpole Pre-School
X-ORIGINAL-URL:http://bradpolepreschool.org.uk
X-WR-CALDESC:Events for Bradpole Pre-School
BEGIN:VEVENT
DTSTART;TZID=UTC+0:20191219T080000
DTEND;TZID=UTC+0:20191219T160000
DTSTAMP:20260423T203432
CREATED:20191018T112419Z
LAST-MODIFIED:20191018T112506Z
UID:1670-1576742400-1576771200@bradpolepreschool.org.uk
SUMMARY:Last Day of Term
DESCRIPTION:
URL:http://bradpolepreschool.org.uk/event/last-day-of-term-7/
END:VEVENT
END:VCALENDAR