BEGIN:VCALENDAR
VERSION:2.0
PRODID:-//Bradpole Pre-School - ECPv4.6.25//NONSGML v1.0//EN
CALSCALE:GREGORIAN
METHOD:PUBLISH
X-WR-CALNAME:Bradpole Pre-School
X-ORIGINAL-URL:http://bradpolepreschool.org.uk
X-WR-CALDESC:Events for Bradpole Pre-School
BEGIN:VEVENT
DTSTART;TZID=UTC+0:20191028T080000
DTEND;TZID=UTC+0:20191101T170000
DTSTAMP:20260423T222431
CREATED:20190920T095643Z
LAST-MODIFIED:20190920T095711Z
UID:1649-1572249600-1572627600@bradpolepreschool.org.uk
SUMMARY:Half Term
DESCRIPTION:
URL:http://bradpolepreschool.org.uk/event/half-term-14/
END:VEVENT
END:VCALENDAR