BEGIN:VCALENDAR
VERSION:2.0
PRODID:-//Bradpole Pre-School - ECPv4.6.25//NONSGML v1.0//EN
CALSCALE:GREGORIAN
METHOD:PUBLISH
X-WR-CALNAME:Bradpole Pre-School
X-ORIGINAL-URL:http://bradpolepreschool.org.uk
X-WR-CALDESC:Events for Bradpole Pre-School
BEGIN:VEVENT
DTSTART;TZID=UTC+0:20191021T123000
DTEND;TZID=UTC+0:20191021T160000
DTSTAMP:20260424T000934
CREATED:20191018T111956Z
LAST-MODIFIED:20191018T112015Z
UID:1664-1571661000-1571673600@bradpolepreschool.org.uk
SUMMARY:Parent Consultations - Younger Children
DESCRIPTION:
URL:http://bradpolepreschool.org.uk/event/parent-consultations-younger-children/
LOCATION:Bradpole Pre-School
END:VEVENT
END:VCALENDAR