BEGIN:VCALENDAR
VERSION:2.0
PRODID:-//Bradpole Pre-School - ECPv4.6.25//NONSGML v1.0//EN
CALSCALE:GREGORIAN
METHOD:PUBLISH
X-WR-CALNAME:Bradpole Pre-School
X-ORIGINAL-URL:http://bradpolepreschool.org.uk
X-WR-CALDESC:Events for Bradpole Pre-School
BEGIN:VEVENT
DTSTART;TZID=UTC+0:20190909T080000
DTEND;TZID=UTC+0:20190909T160000
DTSTAMP:20260424T015759
CREATED:20190719T102418Z
LAST-MODIFIED:20190719T102418Z
UID:1620-1568016000-1568044800@bradpolepreschool.org.uk
SUMMARY:Term Restarts
DESCRIPTION:
URL:http://bradpolepreschool.org.uk/event/term-restarts-2/
END:VEVENT
END:VCALENDAR