BEGIN:VCALENDAR
VERSION:2.0
PRODID:-//Bradpole Pre-School - ECPv4.6.25//NONSGML v1.0//EN
CALSCALE:GREGORIAN
METHOD:PUBLISH
X-WR-CALNAME:Bradpole Pre-School
X-ORIGINAL-URL:http://bradpolepreschool.org.uk
X-WR-CALDESC:Events for Bradpole Pre-School
BEGIN:VEVENT
DTSTART;TZID=UTC+0:20190906T090000
DTEND;TZID=UTC+0:20190906T113000
DTSTAMP:20260424T015614
CREATED:20190719T102522Z
LAST-MODIFIED:20190719T102522Z
UID:1622-1567760400-1567769400@bradpolepreschool.org.uk
SUMMARY:New Starters Session 9.00am-11.30am
DESCRIPTION:
URL:http://bradpolepreschool.org.uk/event/new-starters-session-9-00am-11-30am/
END:VEVENT
END:VCALENDAR