BEGIN:VCALENDAR
VERSION:2.0
PRODID:-//Bradpole Pre-School - ECPv4.6.25//NONSGML v1.0//EN
CALSCALE:GREGORIAN
METHOD:PUBLISH
X-WR-CALNAME:Bradpole Pre-School
X-ORIGINAL-URL:http://bradpolepreschool.org.uk
X-WR-CALDESC:Events for Bradpole Pre-School
BEGIN:VEVENT
DTSTART;TZID=UTC+0:20190728T110000
DTEND;TZID=UTC+0:20190728T140000
DTSTAMP:20260424T052428
CREATED:20190719T102704Z
LAST-MODIFIED:20190719T102704Z
UID:1624-1564311600-1564322400@bradpolepreschool.org.uk
SUMMARY:Bradpole Pre-school Jumble Sale
DESCRIPTION:
URL:http://bradpolepreschool.org.uk/event/bradpole-pre-school-jumble-sale/
LOCATION:The Beehive Football Club\, Bridport
END:VEVENT
END:VCALENDAR