BEGIN:VCALENDAR
VERSION:2.0
PRODID:-//Bradpole Pre-School - ECPv4.6.25//NONSGML v1.0//EN
CALSCALE:GREGORIAN
METHOD:PUBLISH
X-WR-CALNAME:Bradpole Pre-School
X-ORIGINAL-URL:http://bradpolepreschool.org.uk
X-WR-CALDESC:Events for Bradpole Pre-School
BEGIN:VEVENT
DTSTART;TZID=UTC+0:20190723T080000
DTEND;TZID=UTC+0:20190723T123000
DTSTAMP:20260424T052453
CREATED:20190605T134148Z
LAST-MODIFIED:20190719T102329Z
UID:1586-1563868800-1563885000@bradpolepreschool.org.uk
SUMMARY:Last Day of Term (Finish 12.30pm)
DESCRIPTION:
URL:http://bradpolepreschool.org.uk/event/last-day-of-term-6/
LOCATION:Bradpole Pre-School
END:VEVENT
BEGIN:VEVENT
DTSTART;TZID=UTC+0:20190723T140000
DTEND;TZID=UTC+0:20190723T180000
DTSTAMP:20260424T052453
CREATED:20190605T134601Z
LAST-MODIFIED:20190605T134601Z
UID:1596-1563890400-1563904800@bradpolepreschool.org.uk
SUMMARY:Leavers Presentations
DESCRIPTION:
URL:http://bradpolepreschool.org.uk/event/leavers-presentations-4/
LOCATION:Bradpole Pre-School
END:VEVENT
END:VCALENDAR