BEGIN:VCALENDAR
VERSION:2.0
PRODID:-//Bradpole Pre-School - ECPv4.6.25//NONSGML v1.0//EN
CALSCALE:GREGORIAN
METHOD:PUBLISH
X-WR-CALNAME:Bradpole Pre-School
X-ORIGINAL-URL:http://bradpolepreschool.org.uk
X-WR-CALDESC:Events for Bradpole Pre-School
BEGIN:VEVENT
DTSTART;TZID=UTC+0:20190627T080000
DTEND;TZID=UTC+0:20190627T200000
DTSTAMP:20260424T070740
CREATED:20190605T134340Z
LAST-MODIFIED:20190605T134340Z
UID:1590-1561622400-1561665600@bradpolepreschool.org.uk
SUMMARY:Parent Consultations
DESCRIPTION:
URL:http://bradpolepreschool.org.uk/event/parent-consultations-12/
LOCATION:Bradpole Pre-School
END:VEVENT
END:VCALENDAR