BEGIN:VCALENDAR
VERSION:2.0
PRODID:-//Bradpole Pre-School - ECPv4.6.25//NONSGML v1.0//EN
CALSCALE:GREGORIAN
METHOD:PUBLISH
X-WR-CALNAME:Bradpole Pre-School
X-ORIGINAL-URL:http://bradpolepreschool.org.uk
X-WR-CALDESC:Events for Bradpole Pre-School
BEGIN:VEVENT
DTSTART;TZID=UTC+0:20190603T080000
DTEND;TZID=UTC+0:20190603T170000
DTSTAMP:20260424T072126
CREATED:20190605T134053Z
LAST-MODIFIED:20190605T134053Z
UID:1584-1559548800-1559581200@bradpolepreschool.org.uk
SUMMARY:Term Restarts
DESCRIPTION:
URL:http://bradpolepreschool.org.uk/event/term-restarts/
LOCATION:Bradpole Pre-School
END:VEVENT
END:VCALENDAR