BEGIN:VCALENDAR
VERSION:2.0
PRODID:-//Bradpole Pre-School - ECPv4.6.25//NONSGML v1.0//EN
CALSCALE:GREGORIAN
METHOD:PUBLISH
X-WR-CALNAME:Bradpole Pre-School
X-ORIGINAL-URL:http://bradpolepreschool.org.uk
X-WR-CALDESC:Events for Bradpole Pre-School
BEGIN:VEVENT
DTSTART;TZID=UTC+0:20190423T080000
DTEND;TZID=UTC+0:20190423T170000
DTSTAMP:20260424T110800
CREATED:20190304T112240Z
LAST-MODIFIED:20190304T112240Z
UID:1542-1556006400-1556038800@bradpolepreschool.org.uk
SUMMARY:Summer Term Starts
DESCRIPTION:
URL:http://bradpolepreschool.org.uk/event/summer-term-starts/
END:VEVENT
END:VCALENDAR