BEGIN:VCALENDAR
VERSION:2.0
PRODID:-//Bradpole Pre-School - ECPv4.6.25//NONSGML v1.0//EN
CALSCALE:GREGORIAN
METHOD:PUBLISH
X-WR-CALNAME:Bradpole Pre-School
X-ORIGINAL-URL:http://bradpolepreschool.org.uk
X-WR-CALDESC:Events for Bradpole Pre-School
BEGIN:VEVENT
DTSTART;TZID=UTC+0:20190408T080000
DTEND;TZID=UTC+0:20190422T170000
DTSTAMP:20260424T110619
CREATED:20190304T112032Z
LAST-MODIFIED:20190304T112032Z
UID:1537-1554710400-1555952400@bradpolepreschool.org.uk
SUMMARY:Easter Holidays
DESCRIPTION:
URL:http://bradpolepreschool.org.uk/event/easter-holidays-2/
END:VEVENT
END:VCALENDAR