BEGIN:VCALENDAR
VERSION:2.0
PRODID:-//Bradpole Pre-School - ECPv4.6.25//NONSGML v1.0//EN
CALSCALE:GREGORIAN
METHOD:PUBLISH
X-WR-CALNAME:Bradpole Pre-School
X-ORIGINAL-URL:http://bradpolepreschool.org.uk
X-WR-CALDESC:Events for Bradpole Pre-School
BEGIN:VEVENT
DTSTART;TZID=UTC+0:20190307T080000
DTEND;TZID=UTC+0:20190307T160000
DTSTAMP:20260424T125526
CREATED:20190304T112523Z
LAST-MODIFIED:20190304T112547Z
UID:1546-1551945600-1551974400@bradpolepreschool.org.uk
SUMMARY:World Book Day
DESCRIPTION:Help us celebrate World Book Day and come to Pre-school dressed as your favourite book character! \n
URL:http://bradpolepreschool.org.uk/event/world-book-day/
LOCATION:Bradpole Pre-School
END:VEVENT
END:VCALENDAR