BEGIN:VCALENDAR
VERSION:2.0
PRODID:-//Bradpole Pre-School - ECPv4.6.25//NONSGML v1.0//EN
CALSCALE:GREGORIAN
METHOD:PUBLISH
X-WR-CALNAME:Bradpole Pre-School
X-ORIGINAL-URL:http://bradpolepreschool.org.uk
X-WR-CALDESC:Events for Bradpole Pre-School
BEGIN:VEVENT
DTSTART;TZID=UTC+0:20181221T100000
DTEND;TZID=UTC+0:20181221T150000
DTSTAMP:20260424T181317
CREATED:20181012T135941Z
LAST-MODIFIED:20181012T135941Z
UID:1429-1545386400-1545404400@bradpolepreschool.org.uk
SUMMARY:Pre-school Christmas Parties
DESCRIPTION:
URL:http://bradpolepreschool.org.uk/event/pre-school-christmas-parties/
LOCATION:Loders Village Hall\, Loders\, Bridport\, DT6 3SA
END:VEVENT
END:VCALENDAR