BEGIN:VCALENDAR
VERSION:2.0
PRODID:-//Bradpole Pre-School - ECPv4.6.25//NONSGML v1.0//EN
CALSCALE:GREGORIAN
METHOD:PUBLISH
X-WR-CALNAME:Bradpole Pre-School
X-ORIGINAL-URL:http://bradpolepreschool.org.uk
X-WR-CALDESC:Events for Bradpole Pre-School
BEGIN:VEVENT
DTSTART;TZID=UTC+0:20181220T080000
DTEND;TZID=UTC+0:20181220T160000
DTSTAMP:20260424T181711
CREATED:20181012T134804Z
LAST-MODIFIED:20181012T134804Z
UID:1428-1545292800-1545321600@bradpolepreschool.org.uk
SUMMARY:Last Day of Term
DESCRIPTION:
URL:http://bradpolepreschool.org.uk/event/last-day-of-term-3/
END:VEVENT
END:VCALENDAR