BEGIN:VCALENDAR
VERSION:2.0
PRODID:-//Bradpole Pre-School - ECPv4.6.25//NONSGML v1.0//EN
CALSCALE:GREGORIAN
METHOD:PUBLISH
X-WR-CALNAME:Bradpole Pre-School
X-ORIGINAL-URL:http://bradpolepreschool.org.uk
X-WR-CALDESC:Events for Bradpole Pre-School
BEGIN:VEVENT
DTSTART;TZID=UTC+0:20181219T020000
DTEND;TZID=UTC+0:20181219T153000
DTSTAMP:20260424T181504
CREATED:20181107T102756Z
LAST-MODIFIED:20181107T102756Z
UID:1462-1545184800-1545233400@bradpolepreschool.org.uk
SUMMARY:Nativity Play
DESCRIPTION:
URL:http://bradpolepreschool.org.uk/event/nativity-play-2/
LOCATION:Holy Trinity Church\, Bradpole
END:VEVENT
END:VCALENDAR