BEGIN:VCALENDAR
VERSION:2.0
PRODID:-//Bradpole Pre-School - ECPv4.6.25//NONSGML v1.0//EN
CALSCALE:GREGORIAN
METHOD:PUBLISH
X-WR-CALNAME:Bradpole Pre-School
X-ORIGINAL-URL:http://bradpolepreschool.org.uk
X-WR-CALDESC:Events for Bradpole Pre-School
BEGIN:VEVENT
DTSTART;TZID=UTC+0:20181112T123000
DTEND;TZID=UTC+0:20181115T160000
DTSTAMP:20260424T200350
CREATED:20181012T134611Z
LAST-MODIFIED:20181012T134611Z
UID:1427-1542025800-1542297600@bradpolepreschool.org.uk
SUMMARY:Parent Consultations
DESCRIPTION:
URL:http://bradpolepreschool.org.uk/event/parent-consultations-8/
END:VEVENT
END:VCALENDAR