BEGIN:VCALENDAR
VERSION:2.0
PRODID:-//Bradpole Pre-School - ECPv4.6.25//NONSGML v1.0//EN
CALSCALE:GREGORIAN
METHOD:PUBLISH
X-WR-CALNAME:Bradpole Pre-School
X-ORIGINAL-URL:http://bradpolepreschool.org.uk
X-WR-CALDESC:Events for Bradpole Pre-School
BEGIN:VEVENT
DTSTART;TZID=UTC+0:20181105T123000
DTEND;TZID=UTC+0:20181108T160000
DTSTAMP:20260424T200645
CREATED:20181012T134237Z
LAST-MODIFIED:20181012T134237Z
UID:1426-1541421000-1541692800@bradpolepreschool.org.uk
SUMMARY:Parent Consultations
DESCRIPTION:
URL:http://bradpolepreschool.org.uk/event/parent-consultations-7/
END:VEVENT
BEGIN:VEVENT
DTSTART;TZID=UTC+0:20181106T073000
DTEND;TZID=UTC+0:20181106T213000
DTSTAMP:20260424T200645
CREATED:20181107T102849Z
LAST-MODIFIED:20181107T102849Z
UID:1464-1541489400-1541539800@bradpolepreschool.org.uk
SUMMARY:Pre-School Committee Meeting
DESCRIPTION:
URL:http://bradpolepreschool.org.uk/event/pre-school-committee-meeting/
LOCATION:The White Lion\, Bridport
END:VEVENT
END:VCALENDAR