BEGIN:VCALENDAR
VERSION:2.0
PRODID:-//Bradpole Pre-School - ECPv4.6.25//NONSGML v1.0//EN
CALSCALE:GREGORIAN
METHOD:PUBLISH
X-WR-CALNAME:Bradpole Pre-School
X-ORIGINAL-URL:http://bradpolepreschool.org.uk
X-WR-CALDESC:Events for Bradpole Pre-School
BEGIN:VEVENT
DTSTART;TZID=UTC+0:20171214T080000
DTEND;TZID=UTC+0:20171214T160000
DTSTAMP:20260425T134418
CREATED:20170728T191443Z
LAST-MODIFIED:20170728T191443Z
UID:1221-1513238400-1513267200@bradpolepreschool.org.uk
SUMMARY:Break up for Christmas 
DESCRIPTION:Break up for Christmas Normal time \n
URL:http://bradpolepreschool.org.uk/event/break-up-for-christmas-4/
END:VEVENT
BEGIN:VEVENT
DTSTART;TZID=UTC+0:20171214T140000
DTEND;TZID=UTC+0:20171214T153000
DTSTAMP:20260425T134418
CREATED:20171113T095250Z
LAST-MODIFIED:20171113T095250Z
UID:1361-1513260000-1513265400@bradpolepreschool.org.uk
SUMMARY:Nativity play 
DESCRIPTION:Nativity play – Older children only \n2pm Holy Trinity church Bradpole\, and them 2.30pm over at St James’s \n
URL:http://bradpolepreschool.org.uk/event/nativity-play/
END:VEVENT
END:VCALENDAR