BEGIN:VCALENDAR
VERSION:2.0
PRODID:-//Bradpole Pre-School - ECPv4.6.25//NONSGML v1.0//EN
CALSCALE:GREGORIAN
METHOD:PUBLISH
X-WR-CALNAME:Bradpole Pre-School
X-ORIGINAL-URL:http://bradpolepreschool.org.uk
X-WR-CALDESC:Events for Bradpole Pre-School
BEGIN:VEVENT
DTSTART;TZID=UTC+0:20171106T080000
DTEND;TZID=UTC+0:20171109T160000
DTSTAMP:20260425T153314
CREATED:20170728T191401Z
LAST-MODIFIED:20170728T191401Z
UID:1220-1509955200-1510243200@bradpolepreschool.org.uk
SUMMARY:Parent Consultations 
DESCRIPTION:Parent Consultations \n
URL:http://bradpolepreschool.org.uk/event/parent-consultations-3/
END:VEVENT
BEGIN:VEVENT
DTSTART;TZID=UTC+0:20171107T093000
DTEND;TZID=UTC+0:20171107T110000
DTSTAMP:20260425T153314
CREATED:20171113T094804Z
LAST-MODIFIED:20171113T094804Z
UID:1355-1510047000-1510052400@bradpolepreschool.org.uk
SUMMARY:Forest school - Rooks
DESCRIPTION:Forest school – Rooks \n
URL:http://bradpolepreschool.org.uk/event/forest-school-rooks-6/
END:VEVENT
END:VCALENDAR