BEGIN:VCALENDAR
VERSION:2.0
PRODID:-//Bradpole Pre-School - ECPv4.6.25//NONSGML v1.0//EN
CALSCALE:GREGORIAN
METHOD:PUBLISH
X-WR-CALNAME:Bradpole Pre-School
X-ORIGINAL-URL:http://bradpolepreschool.org.uk
X-WR-CALDESC:Events for Bradpole Pre-School
BEGIN:VEVENT
DTSTART;TZID=UTC+0:20171017T080000
DTEND;TZID=UTC+0:20171017T170000
DTSTAMP:20260425T171618
CREATED:20170927T134008Z
LAST-MODIFIED:20170927T134008Z
UID:1257-1508227200-1508259600@bradpolepreschool.org.uk
SUMMARY:Forest school Rooks
DESCRIPTION:
URL:http://bradpolepreschool.org.uk/event/forest-school-rooks-3/
END:VEVENT
BEGIN:VEVENT
DTSTART;TZID=UTC+0:20171017T190000
DTEND;TZID=UTC+0:20171017T200000
DTSTAMP:20260425T171618
CREATED:20171006T123541Z
LAST-MODIFIED:20171006T123541Z
UID:1325-1508266800-1508270400@bradpolepreschool.org.uk
SUMMARY:AGM 
DESCRIPTION:AGM 7pm here at preschool \n
URL:http://bradpolepreschool.org.uk/event/agm-2/
LOCATION:Bradpole Pre-School
END:VEVENT
END:VCALENDAR